BEGIN:VCALENDAR
VERSION:2.0
PRODID:-//FC Rubin//NONSGML//EN
BEGIN:VEVENT
UID:62e52bce5198f8b10537521ea220cb42@fc_rubin
DTSTAMP:20260424T165006Z
DTSTART:20260425T073000Z
SUMMARY:СШОР Зенит - Рубин
LOCATION:СШОР по футболу «Зенит»
END:VEVENT
END:VCALENDAR