BEGIN:VCALENDAR
VERSION:2.0
PRODID:-//FC Rubin//NONSGML//EN
BEGIN:VEVENT
UID:68da07b472e86da41baa358f94d508b8@fc_rubin
DTSTAMP:20260424T182802Z
DTSTART:20260523T070000Z
SUMMARY:Рубин - Мастер-Сатурн
LOCATION:База Рубин, поле 2
END:VEVENT
END:VCALENDAR