BEGIN:VCALENDAR
VERSION:2.0
PRODID:-//FC Rubin//NONSGML//EN
BEGIN:VEVENT
UID:adbdcbe7ed1ca7ac543cf9882e2bca5f@fc_rubin
DTSTAMP:20260424T182831Z
DTSTART:20260516T100000Z
SUMMARY:Динамо - Рубин
LOCATION:ВТБ УТБ Новогорск-Динамо
END:VEVENT
END:VCALENDAR