BEGIN:VCALENDAR
VERSION:2.0
PRODID:-//FC Rubin//NONSGML//EN
BEGIN:VEVENT
UID:54721fbe394c10442a9de09e908c4d68@fc_rubin
DTSTAMP:20260424T165057Z
DTSTART:20260510T060000Z
SUMMARY:Акрон-Академия Коноплева - Рубин
LOCATION:Стадион «Акрон-Академия Коноплёва»
END:VEVENT
END:VCALENDAR